BEGIN:VCALENDAR
VERSION:2.0
PRODID:-//Skyview Elementary PTO - ECPv6.15.20//NONSGML v1.0//EN
CALSCALE:GREGORIAN
METHOD:PUBLISH
X-WR-CALNAME:Skyview Elementary PTO
X-ORIGINAL-URL:https://septo.ptoffice.co
X-WR-CALDESC:Events for Skyview Elementary PTO
REFRESH-INTERVAL;VALUE=DURATION:PT1H
X-Robots-Tag:noindex
X-PUBLISHED-TTL:PT1H
BEGIN:VTIMEZONE
TZID:America/New_York
BEGIN:DAYLIGHT
TZOFFSETFROM:-0500
TZOFFSETTO:-0400
TZNAME:EDT
DTSTART:20230312T070000
END:DAYLIGHT
BEGIN:STANDARD
TZOFFSETFROM:-0400
TZOFFSETTO:-0500
TZNAME:EST
DTSTART:20231105T060000
END:STANDARD
BEGIN:DAYLIGHT
TZOFFSETFROM:-0500
TZOFFSETTO:-0400
TZNAME:EDT
DTSTART:20240310T070000
END:DAYLIGHT
BEGIN:STANDARD
TZOFFSETFROM:-0400
TZOFFSETTO:-0500
TZNAME:EST
DTSTART:20241103T060000
END:STANDARD
BEGIN:DAYLIGHT
TZOFFSETFROM:-0500
TZOFFSETTO:-0400
TZNAME:EDT
DTSTART:20250309T070000
END:DAYLIGHT
BEGIN:STANDARD
TZOFFSETFROM:-0400
TZOFFSETTO:-0500
TZNAME:EST
DTSTART:20251102T060000
END:STANDARD
END:VTIMEZONE
BEGIN:VEVENT
DTSTART;TZID=America/New_York:20240904T180000
DTEND;TZID=America/New_York:20240904T190000
DTSTAMP:20260422T080705
CREATED:20240810T131127Z
LAST-MODIFIED:20240810T131127Z
UID:10000006-1725472800-1725476400@septo.ptoffice.co
SUMMARY:PTO Meeting
DESCRIPTION:Join us for our very first PTO meeting of the year. Refreshments and Childcare will be provided.
URL:https://septo.ptoffice.co/event/pto-meeting/
LOCATION:Skyview Elementary
END:VEVENT
BEGIN:VEVENT
DTSTART;TZID=America/New_York:20240819T150000
DTEND;TZID=America/New_York:20240819T180000
DTSTAMP:20260422T080705
CREATED:20240728T200800Z
LAST-MODIFIED:20240807T170029Z
UID:10000001-1724079600-1724090400@septo.ptoffice.co
SUMMARY:Open House
DESCRIPTION:
URL:https://septo.ptoffice.co/event/open-house/
LOCATION:Skyview Elementary
END:VEVENT
END:VCALENDAR